Coverage: 656 square miles, more or less Tulsa County, Black and White, ~ 20\" resolution. Provided by the Oklahoma Corporation Commission. Flown during the latter half of July and early August of 1943. <\/SPAN><\/P><\/DIV><\/DIV><\/DIV>",
"name": "Aerial_1943BW",
"description": "Coverage: 656 square miles, more or less Tulsa County, Black and White, ~ 20\" resolution. Provided by the Oklahoma Corporation Commission. Flown during the latter half of July and early August of 1943. <\/SPAN><\/P><\/DIV><\/DIV><\/DIV>",
"extent": {
"xmin": 2466631.6436299626,
"ymin": 309533.96163404104,
"xmax": 2634242.493133937,
"ymax": 531115.9208544076,
"spatialReference": {
"wkid": 102724,
"latestWkid": 2267
}
},
"initialExtent": {
"xmin": 2466631.6436299626,
"ymin": 309533.96163404104,
"xmax": 2634242.493133937,
"ymax": 531115.9208544076,
"spatialReference": {
"wkid": 102724,
"latestWkid": 2267
}
},
"fullExtent": {
"xmin": 2466631.6436299626,
"ymin": 309533.96163404104,
"xmax": 2634242.493133937,
"ymax": 531115.9208544076,
"spatialReference": {
"wkid": 102724,
"latestWkid": 2267
}
},
"sortableFields": "",
"bandCount": 3,
"pixelType": "U16",
"minValues": [
1,
1,
1
],
"maxValues": [
255,
255,
255
],
"meanValues": [
176.34490973501136,
175.69736985042746,
170.81406819878723
],
"stdvValues": [
40.63166391261572,
40.00390159024688,
39.77590349224811
],
"serviceProperties": "Center<\/MosaicMethod>First<\/MosaicOperator>true<\/SortAscending><\/LockImageID><\/TileOrderField>0<\/TileOrderBase>0.000000<\/AvgImageSpacingX>0.000000<\/AvgImageSpacingY>0.0<\/ViewPointX>0.0<\/ViewPointY>0.0<\/ViewPointDefShiftX>0.0<\/ViewPointDefShiftY>None<\/CompressionMethod>75<\/CompressionQuality>0.010000<\/CompressionTolerance>Bilinear<\/SamplingMethod><\/ImageServiceProperties><\/ImageServer>",
"allowedFields": "",
"hasMultidimensions": false,
"pixelSizeX": 6.055524025578035,
"pixelSizeY": 6.001678202068433,
"meanPixelSize": 1.837521294535911,
"datasetFormat": "SDR",
"uncompressedSize": 6131452080,
"blockWidth": 128,
"blockHeight": 128,
"compressionType": "LZ77",
"bandNames": [
"Band_1",
"Band_2",
"Band_3"
],
"allowCopy": true,
"allowAnalysis": true,
"itemAccess": false,
"inspectionCapabilities": "",
"minPixelSize": 0,
"maxPixelSize": 0,
"copyrightText": "Oklahoma Corporation Commission. ArcSDE raster mosaic by TSimmons, 2013",
"serviceDataType": "esriImageServiceDataTypeGeneric",
"serviceSourceType": "esriImageServiceSourceTypeDataset",
"objectIdField": "",
"fields": [],
"capabilities": "Image,Metadata,Mensuration",
"defaultMosaicMethod": "Center",
"allowedMosaicMethods": "",
"sortField": "",
"sortValue": null,
"sortAscending": true,
"mosaicOperator": "First",
"defaultCompressionQuality": 75,
"defaultResamplingMethod": "Bilinear",
"maxImageHeight": 4100,
"maxImageWidth": 15000,
"allowRasterFunction": true,
"rasterFunctionInfos": [
{
"name": "None",
"description": "",
"help": ""
}
],
"rasterTypeInfos": [
{
"name": "Raster Dataset",
"description": "Supports all ArcGIS Raster Datasets",
"help": ""
}
],
"mensurationCapabilities": "Basic",
"hasHistograms": true,
"hasColormap": false,
"hasRasterAttributeTable": false,
"minScale": 0,
"maxScale": 0,
"exportTilesAllowed": false,
"supportsStatistics": false,
"supportsAdvancedQueries": false,
"editFieldsInfo": null,
"ownershipBasedAccessControlForRasters": null,
"allowComputeTiePoints": false,
"useStandardizedQueries": true,
"advancedQueryCapabilities": {
"useStandardizedQueries": true,
"supportsStatistics": false,
"supportsOrderBy": false,
"supportsDistinct": false,
"supportsPagination": false
},
"spatialReference": {
"wkid": 102724,
"latestWkid": 2267
}
}