{
 "currentVersion": 11.5,
 "cimVersion": "3.5.0",
 "serviceDescription": "",
 "mapName": "PrueCLT",
 "description": "",
 "copyrightText": "",
 "supportsDynamicLayers": true,
 "layers": [
  {
   "id": 0,
   "name": "PrueCLT",
   "parentLayerId": -1,
   "defaultVisibility": true,
   "subLayerIds": null,
   "minScale": 1000000,
   "maxScale": 0,
   "type": "Feature Layer",
   "geometryType": "esriGeometryPolygon",
   "supportsDynamicLegends": true
  }
 ],
 "tables": [],
 "spatialReference": {
  "wkid": 102724,
  "latestWkid": 2267,
  "xyTolerance": 0.003280833333333333,
  "zTolerance": 0.001,
  "mTolerance": 0.001,
  "falseX": -121323100,
  "falseY": -94209400,
  "xyUnits": 3048.0060960121914,
  "falseZ": -100000,
  "zUnits": 10000,
  "falseM": -100000,
  "mUnits": 10000
 },
 "singleFusedMapCache": true,
 "tileInfo": {
  "rows": 256,
  "cols": 256,
  "dpi": 96,
  "format": "PNG",
  "compressionQuality": 0,
  "origin": {
   "x": -1.2132270141819812E8,
   "y": 1.0795368369546822E8
  },
  "spatialReference": {
   "wkid": 102724,
   "latestWkid": 2267,
   "xyTolerance": 0.003280833333333333,
   "zTolerance": 0.001,
   "mTolerance": 0.001,
   "falseX": -121323100,
   "falseY": -94209400,
   "xyUnits": 3048.0060960121914,
   "falseZ": -100000,
   "zUnits": 10000,
   "falseM": -100000,
   "mUnits": 10000
  },
  "lods": [
   {
    "level": 0,
    "resolution": 963212.5110796728,
    "scale": 1.1096230320098472E9
   },
   {
    "level": 1,
    "resolution": 481606.2555398364,
    "scale": 5.548115160049236E8
   },
   {
    "level": 2,
    "resolution": 240803.1277699182,
    "scale": 2.774057580024618E8
   },
   {
    "level": 3,
    "resolution": 120401.5638849591,
    "scale": 1.387028790012309E8
   },
   {
    "level": 4,
    "resolution": 60200.78194247955,
    "scale": 6.935143950061545E7
   },
   {
    "level": 5,
    "resolution": 30100.390971239776,
    "scale": 3.4675719750307724E7
   },
   {
    "level": 6,
    "resolution": 15050.195485619888,
    "scale": 1.7337859875153862E7
   },
   {
    "level": 7,
    "resolution": 7525.097742809944,
    "scale": 8668929.937576931
   },
   {
    "level": 8,
    "resolution": 3762.548871404972,
    "scale": 4334464.9687884655
   },
   {
    "level": 9,
    "resolution": 1881.274435702486,
    "scale": 2167232.4843942327
   },
   {
    "level": 10,
    "resolution": 940.637217851243,
    "scale": 1083616.2421971164
   },
   {
    "level": 11,
    "resolution": 470.3186089256215,
    "scale": 541808.1210985582
   },
   {
    "level": 12,
    "resolution": 235.15930446281075,
    "scale": 270904.0605492791
   },
   {
    "level": 13,
    "resolution": 117.57965223140538,
    "scale": 135452.03027463955
   },
   {
    "level": 14,
    "resolution": 58.78982611570269,
    "scale": 67726.01513731977
   },
   {
    "level": 15,
    "resolution": 29.394913057851344,
    "scale": 33863.00756865989
   },
   {
    "level": 16,
    "resolution": 14.697456528925672,
    "scale": 16931.503784329943
   },
   {
    "level": 17,
    "resolution": 7.348728264462836,
    "scale": 8465.751892164972
   },
   {
    "level": 18,
    "resolution": 3.674364132231418,
    "scale": 4232.875946082486
   },
   {
    "level": 19,
    "resolution": 1.837182066115709,
    "scale": 2116.437973041243
   },
   {
    "level": 20,
    "resolution": 0.9185910330578545,
    "scale": 1058.2189865206215
   },
   {
    "level": 21,
    "resolution": 0.45929551652892725,
    "scale": 529.1094932603107
   },
   {
    "level": 22,
    "resolution": 0.22964775826446363,
    "scale": 264.55474663015536
   },
   {
    "level": 23,
    "resolution": 0.11482387913223181,
    "scale": 132.27737331507768
   }
  ]
 },
 "storageInfo": {
  "storageFormat": "esriMapCacheStorageModeCompactV2",
  "packetSize": 128
 },
 "initialExtent": {
  "xmin": 2472817.090418121,
  "ymin": 455866.1230117454,
  "xmax": 2489321.81232051,
  "ymax": 466705.3942753003,
  "spatialReference": {
   "wkid": 102724,
   "latestWkid": 2267,
   "xyTolerance": 0.003280833333333333,
   "zTolerance": 0.001,
   "mTolerance": 0.001,
   "falseX": -121323100,
   "falseY": -94209400,
   "xyUnits": 3048.0060960121914,
   "falseZ": -100000,
   "zUnits": 10000,
   "falseM": -100000,
   "mUnits": 10000
  }
 },
 "fullExtent": {
  "xmin": 2477573.0713870227,
  "ymin": 456257.7244082689,
  "xmax": 2484565.831351608,
  "ymax": 466313.7928787768,
  "spatialReference": {
   "wkid": 102724,
   "latestWkid": 2267,
   "xyTolerance": 0.003280833333333333,
   "zTolerance": 0.001,
   "mTolerance": 0.001,
   "falseX": -121323100,
   "falseY": -94209400,
   "xyUnits": 3048.0060960121914,
   "falseZ": -100000,
   "zUnits": 10000,
   "falseM": -100000,
   "mUnits": 10000
  }
 },
 "datesInUnknownTimezone": false,
 "minScale": 1083616.2421971164,
 "maxScale": 4232.875946082486,
 "minLOD": 10,
 "maxLOD": 18,
 "units": "esriFeet",
 "supportedImageFormatTypes": "PNG32,PNG24,PNG,JPG,DIB,TIFF,EMF,PS,PDF,GIF,SVG,SVGZ,BMP",
 "documentInfo": {
  "Title": "Map2",
  "Author": "",
  "Comments": "",
  "Subject": "",
  "Category": "",
  "Version": "3.3.0",
  "AntialiasingMode": "Fast",
  "TextAntialiasingMode": "Force",
  "Keywords": "Prue,Osage County,Corporate Limits"
 },
 "supportsQueryDomains": true,
 "capabilities": "Map,Query,Data",
 "supportedQueryFormats": "JSON, geoJSON, PBF",
 "hasVersionedData": true,
 "exportTilesAllowed": false,
 "referenceScale": 0.0,
 "supportsDatumTransformation": true,
 "floorAwareMapProperties": {
  "defaultFloorFilterSettings": {
   "isEnabled": false
  }
 },
 "archivingInfo": {
  "supportsHistoricMoment": false
 },
 "supportsClipping": true,
 "supportsSpatialFilter": true,
 "supportsTimeRelation": true,
 "supportsQueryDataElements": true,
 "mapUnits": {
  "uwkid": 9003
 },
 "maxSelectionCount": 2000,
 "maxRecordCount": 2000,
 "maxImageHeight": 4096,
 "maxImageWidth": 4096,
 "supportedExtensions": "FeatureServer"
}
