View In:
ArcGIS JavaScript
ArcGIS Online Map Viewer
ArcGIS Earth
ArcGIS Pro
Service Description:
Map Name: FairOaksCLT
Legend
All Layers and Tables
Dynamic Legend
Dynamic All Layers
Layers:
Description:
Copyright Text:
Spatial Reference:
102724
(2267)
LatestVCSWkid(0)
Single Fused Map Cache: true
Tile Info:
- Height: 256.0
- Width: 256.0
- DPI: 96.0
-
Levels of Detail: 24
-
Level ID: 0
[ Start Tile, End Tile ]
- Resolution: 963212.5110796728
- Scale: 1.1096230320098472E9
-
Level ID: 1
[ Start Tile, End Tile ]
- Resolution: 481606.2555398364
- Scale: 5.548115160049236E8
-
Level ID: 2
[ Start Tile, End Tile ]
- Resolution: 240803.1277699182
- Scale: 2.774057580024618E8
-
Level ID: 3
[ Start Tile, End Tile ]
- Resolution: 120401.5638849591
- Scale: 1.387028790012309E8
-
Level ID: 4
[ Start Tile, End Tile ]
- Resolution: 60200.78194247955
- Scale: 6.935143950061545E7
-
Level ID: 5
[ Start Tile, End Tile ]
- Resolution: 30100.390971239776
- Scale: 3.4675719750307724E7
-
Level ID: 6
[ Start Tile, End Tile ]
- Resolution: 15050.195485619888
- Scale: 1.7337859875153862E7
-
Level ID: 7
[ Start Tile, End Tile ]
- Resolution: 7525.097742809944
- Scale: 8668929.937576931
-
Level ID: 8
[ Start Tile, End Tile ]
- Resolution: 3762.548871404972
- Scale: 4334464.9687884655
-
Level ID: 9
[ Start Tile, End Tile ]
- Resolution: 1881.274435702486
- Scale: 2167232.4843942327
-
Level ID: 10
[ Start Tile, End Tile ]
- Resolution: 940.637217851243
- Scale: 1083616.2421971164
-
Level ID: 11
[ Start Tile, End Tile ]
- Resolution: 470.3186089256215
- Scale: 541808.1210985582
-
Level ID: 12
[ Start Tile, End Tile ]
- Resolution: 235.15930446281075
- Scale: 270904.0605492791
-
Level ID: 13
[ Start Tile, End Tile ]
- Resolution: 117.57965223140538
- Scale: 135452.03027463955
-
Level ID: 14
[ Start Tile, End Tile ]
- Resolution: 58.78982611570269
- Scale: 67726.01513731977
-
Level ID: 15
[ Start Tile, End Tile ]
- Resolution: 29.394913057851344
- Scale: 33863.00756865989
-
Level ID: 16
[ Start Tile, End Tile ]
- Resolution: 14.697456528925672
- Scale: 16931.503784329943
-
Level ID: 17
[ Start Tile, End Tile ]
- Resolution: 7.348728264462836
- Scale: 8465.751892164972
-
Level ID: 18
[ Start Tile, End Tile ]
- Resolution: 3.674364132231418
- Scale: 4232.875946082486
-
Level ID: 19
[ Start Tile, End Tile ]
- Resolution: 1.837182066115709
- Scale: 2116.437973041243
-
Level ID: 20
[ Start Tile, End Tile ]
- Resolution: 0.9185910330578545
- Scale: 1058.2189865206215
-
Level ID: 21
[ Start Tile, End Tile ]
- Resolution: 0.45929551652892725
- Scale: 529.1094932603107
-
Level ID: 22
[ Start Tile, End Tile ]
- Resolution: 0.22964775826446363
- Scale: 264.55474663015536
-
Level ID: 23
[ Start Tile, End Tile ]
- Resolution: 0.11482387913223181
- Scale: 132.27737331507768
- Format: PNG
- Compression Quality: 0.0
- Origin: X: -1.2132270141819812E8
Y: 1.0795368369546822E8
- Spatial Reference: 102724
(2267)
LatestVCSWkid(0)
Storage Info:
- Storage Format: esriMapCacheStorageModeCompactV2
- Packet Size: 128
Initial Extent:
XMin: 2627376.1846465133
YMin: 410052.06310677
XMax: 2675490.7571071275
YMax: 441650.7114035987
Spatial Reference: 102724
(2267)
LatestVCSWkid(0)
Full Extent:
XMin: 2634247.479166195
YMin: 409942.5591647625
XMax: 2668619.462587446
YMax: 441760.2153456062
Spatial Reference: 102724
(2267)
LatestVCSWkid(0)
Units: esriFeet
Supported Image Format Types: PNG32,PNG24,PNG,JPG,DIB,TIFF,EMF,PS,PDF,GIF,SVG,SVGZ,BMP
Document Info:
Title: Map2
Author:
Comments:
Subject:
Category:
Keywords: Fair Oaks,Corporate Limits,Rogers County,Wagoner County
AntialiasingMode: Fast
TextAntialiasingMode: Force
Supports Dynamic Layers: true
MaxRecordCount: 2000
MaxSelectionCount: 2000
MaxImageHeight: 4096
MaxImageWidth: 4096
Supported Query Formats: JSON, geoJSON, PBF
Supports Query Data Elements: true
Min Scale: 1083616.2421971164
Max Scale: 4232.875946082486
Min LOD: 10
Max LOD: 18
Supports Datum Transformation: true
Child Resources:
Info
Dynamic Layer
Supported Operations:
Export Map
Identify
QueryLegends
QueryDomains
Find
Return Updates