View In:
ArcGIS JavaScript
ArcGIS Online Map Viewer
ArcGIS Earth
Service Description: Coverage: 656 square miles, more or less Tulsa County, Black and White, ~ 20" resolution. Provided by the Oklahoma Corporation Commission. Flown during the latter half of July and early August of 1943.
Name: Aerial_1943BW
Description: Coverage: 656 square miles, more or less Tulsa County, Black and White, ~ 20" resolution. Provided by the Oklahoma Corporation Commission. Flown during the latter half of July and early August of 1943.
Single Fused Map Cache: false
Extent:
XMin: 2466631.6436299626
YMin: 309533.96163404104
XMax: 2634242.493133937
YMax: 531115.9208544076
Spatial Reference: 102724
(2267)
LatestVCSWkid(0)
Initial Extent:
XMin: 2466631.6436299626
YMin: 309533.96163404104
XMax: 2634242.493133937
YMax: 531115.9208544076
Spatial Reference: 102724
(2267)
LatestVCSWkid(0)
Full Extent:
XMin: 2466631.6436299626
YMin: 309533.96163404104
XMax: 2634242.493133937
YMax: 531115.9208544076
Spatial Reference: 102724
(2267)
LatestVCSWkid(0)
Pixel Size X: 6.055524025578035
Pixel Size Y: 6.001678202068433
Band Count: 3
Pixel Type: U16
RasterFunction Infos: {"rasterFunctionInfos": [{
"name": "None",
"description": "",
"help": ""
}]}
Mensuration Capabilities: Basic
Inspection Capabilities:
Has Histograms: true
Has Colormap: false
Has Multi Dimensions : false
Rendering Rule:
Min Scale: 0
Max Scale: 0
Copyright Text: Oklahoma Corporation Commission. ArcSDE raster mosaic by TSimmons, 2013
Service Data Type: esriImageServiceDataTypeGeneric
Min Values: 1, 1, 1
Max Values: 255, 255, 255
Mean Values: 176.34490973501136, 175.69736985042746, 170.81406819878723
Standard Deviation Values: 40.63166391261572, 40.00390159024688, 39.77590349224811
Object ID Field:
Fields:
None
Default Mosaic Method: Center
Allowed Mosaic Methods:
SortField:
SortValue: null
Mosaic Operator: First
Default Compression Quality: 75
Default Resampling Method: Bilinear
Max Record Count: null
Max Image Height: 4100
Max Image Width: 15000
Max Download Image Count: null
Max Mosaic Image Count: null
Allow Raster Function: true
Allow Copy: true
Allow Analysis: true
Allow Compute TiePoints: false
Supports Statistics: false
Supports Advanced Queries: false
Use StandardizedQueries: true
Raster Type Infos:
Name: Raster Dataset
Description: Supports all ArcGIS Raster Datasets
Help:
Has Raster Attribute Table: false
Edit Fields Info: null
Ownership Based AccessControl For Rasters: null
Child Resources:
Info
Histograms
Statistics
Key Properties
Legend
Raster Function Infos
Supported Operations:
Export Image
Identify
Measure
Compute Histograms
Compute Statistics Histograms
Get Samples
Compute Class Statistics
Query Boundary
Compute Pixel Location
Compute Angles
Validate
Project